BEGIN:VCALENDAR
VERSION:2.0
CALSCALE:GREGORIAN
BEGIN:VEVENT
SUMMARY:🪷KinderYoga
DTSTART;TZID=Europe/Amsterdam:20251007T153000
DTEND;TZID=Europe/Amsterdam:20251007T163000
LOCATION:Studio Het Hof, Het Hof 9
DESCRIPTION: Yoga voor kinderen is zó waardevol.
Bij YogaNanouk leert de enthousiaste docente Corina van den Brink je kind op een speelse en creatieve manier om de adem, lichaam en zintuigen te gebruiken. En vooral te ontspannen!
Ervaar het zelf in Studio Het Hof.

Dit is een lesblok van 6 lessen. 
Start 19 september 2025.
Er is plek voor maximaal 8 kinderen.
Vol=vol

Kosten zijn 60 euro voor 6 lessen.

Na betaling is je inschrijving definitief en is er elke les een plekje voor je kind gereserveerd.

Mocht er een les uitvallen tijdens de lesreeks dan biedt de docent een vervangende les aan.

Voor meer informatie kun je contact opnemen met Nanouk info@yogananouk.nl/ 06-24465146
STATUS:CONFIRMED
SEQUENCE:0
END:VEVENT
END:VCALENDAR