BEGIN:VCALENDAR
VERSION:2.0
CALSCALE:GREGORIAN
BEGIN:VEVENT
SUMMARY:Fijne Kerst!
DTSTART;TZID=Europe/Amsterdam:20211225T145000
DTEND;TZID=Europe/Amsterdam:20211225T155000
LOCATION:Yoganesh Yoga &amp; Yogatherapie
DESCRIPTION: …
STATUS:CONFIRMED
SEQUENCE:0
END:VEVENT
END:VCALENDAR