BEGIN:VCALENDAR
VERSION:2.0
CALSCALE:GREGORIAN
BEGIN:VEVENT
SUMMARY:STUDIO of 🌳: Yin-Yang Konings Flow!
DTSTART;TZID=Europe/Amsterdam:20220427T103000
DTEND;TZID=Europe/Amsterdam:20220427T120000
LOCATION:Yoganesh Yoga &amp; Yogatherapie
DESCRIPTION: Lekker op je vrije Koningsdag voordat je de vrijmarkt opgaat!
Een heerlijke les waarin yin en yang elkaar afwisselen en die is afgestemd op de deelnemers. 

Bij heel mooi weer gaan we met de voetjes in het gras!
STATUS:CONFIRMED
SEQUENCE:0
END:VEVENT
END:VCALENDAR