BEGIN:VCALENDAR
VERSION:2.0
CALSCALE:GREGORIAN
BEGIN:VEVENT
SUMMARY:Yogalates met Lotty
DTSTART;TZID=Europe/Amsterdam:20220622T200000
DTEND;TZID=Europe/Amsterdam:20220622T211500
LOCATION:yoganiek
DESCRIPTION: Deze les wordt verzorgt door Lotty
STATUS:CONFIRMED
SEQUENCE:0
END:VEVENT
END:VCALENDAR