BEGIN:VCALENDAR
VERSION:2.0
CALSCALE:GREGORIAN
BEGIN:VEVENT
SUMMARY:Restorative Yoga paula Teaching
DTSTART;TZID=Europe/Amsterdam:20230402T193000
DTEND;TZID=Europe/Amsterdam:20230402T210000
LOCATION:Studio
DESCRIPTION: 
STATUS:CONFIRMED
SEQUENCE:0
END:VEVENT
END:VCALENDAR