BEGIN:VCALENDAR
VERSION:2.0
CALSCALE:GREGORIAN
BEGIN:VEVENT
SUMMARY:IYH workshop studio or online  ( sarah -jane and Daniela )
DTSTART;TZID=Europe/Amsterdam:20230723T160000
DTEND;TZID=Europe/Amsterdam:20230723T183000
LOCATION:Studio
DESCRIPTION: 
STATUS:CONFIRMED
SEQUENCE:0
END:VEVENT
END:VCALENDAR