BEGIN:VCALENDAR
VERSION:2.0
CALSCALE:GREGORIAN
BEGIN:VEVENT
SUMMARY:Sunday special in studio Alison Faith and Sarah-jane
DTSTART;TZID=Europe/Amsterdam:20230611T093000
DTEND;TZID=Europe/Amsterdam:20230611T094500
LOCATION:Studio
DESCRIPTION: 
STATUS:CONFIRMED
SEQUENCE:0
END:VEVENT
END:VCALENDAR