BEGIN:VCALENDAR
VERSION:2.0
CALSCALE:GREGORIAN
BEGIN:VEVENT
SUMMARY:Stress Relief Yoga
DTSTART;TZID=Europe/Amsterdam:20250829T104500
DTEND;TZID=Europe/Amsterdam:20250829T120000
LOCATION:Gezond Haarlem
DESCRIPTION: 
STATUS:CONFIRMED
SEQUENCE:0
END:VEVENT
END:VCALENDAR