BEGIN:VCALENDAR
VERSION:2.0
CALSCALE:GREGORIAN
BEGIN:VEVENT
SUMMARY:Yoga BUITEN
DTSTART;TZID=Europe/Amsterdam:20230619T190000
DTEND;TZID=Europe/Amsterdam:20230619T200000
LOCATION:Stuivenbergweg, IJsselstein
DESCRIPTION: Yoga met flow
STATUS:CONFIRMED
SEQUENCE:0
END:VEVENT
END:VCALENDAR