BEGIN:VCALENDAR
VERSION:2.0
CALSCALE:GREGORIAN
BEGIN:VEVENT
SUMMARY:Geen les ivm Kermis Overloon
DTSTART;TZID=Europe/Amsterdam:20230822T085500
DTEND;TZID=Europe/Amsterdam:20230822T090000
LOCATION:Overloon
DESCRIPTION: 
STATUS:CONFIRMED
SEQUENCE:0
END:VEVENT
END:VCALENDAR