BEGIN:VCALENDAR
VERSION:2.0
CALSCALE:GREGORIAN
BEGIN:VEVENT
SUMMARY:Personal Yoga
DTSTART;TZID=Europe/Vienna:20260129T090000
DTEND;TZID=Europe/Vienna:20260129T100000
LOCATION:Lineli, Klühufgasse 3, 2721 Bad Fischau-Brunn
DESCRIPTION: 60 Minuten mit E-RYT 500 und C-IAYT Mag. Claudia Vogt
STATUS:CONFIRMED
SEQUENCE:0
END:VEVENT
END:VCALENDAR