BEGIN:VCALENDAR
VERSION:2.0
CALSCALE:GREGORIAN
BEGIN:VEVENT
SUMMARY:Yoga+ (open/Drop In)
DTSTART;TZID=Europe/Vienna:20260203T190000
DTEND;TZID=Europe/Vienna:20260203T201500
LOCATION:Lineli, Klühufgasse 3, 2721 Bad Fischau-Brunn
DESCRIPTION: 
STATUS:CONFIRMED
SEQUENCE:0
END:VEVENT
END:VCALENDAR