BEGIN:VCALENDAR
VERSION:2.0
CALSCALE:GREGORIAN
BEGIN:VEVENT
SUMMARY:Yoga60+ (open/drop in)
DTSTART;TZID=Europe/Vienna:20260205T103000
DTEND;TZID=Europe/Vienna:20260205T114500
LOCATION:Lineli, Klühufgasse 3, 2721 Bad Fischau-Brunn
DESCRIPTION: Für alle offen. Bitte Drop in Ticket lösen!
STATUS:CONFIRMED
SEQUENCE:0
END:VEVENT
END:VCALENDAR