BEGIN:VCALENDAR
VERSION:2.0
CALSCALE:GREGORIAN
BEGIN:VEVENT
SUMMARY:TROUWDAG ZUS 24 APRIL LES!
DTSTART;TZID=Europe/Amsterdam:20260417T193000
DTEND;TZID=Europe/Amsterdam:20260417T204500
LOCATION:Verzamelen Yoga studio, Boerenverdriet
DESCRIPTION: 
STATUS:CONFIRMED
SEQUENCE:0
END:VEVENT
END:VCALENDAR