BEGIN:VCALENDAR
VERSION:2.0
CALSCALE:GREGORIAN
BEGIN:VEVENT
SUMMARY:YIN YOGA
DTSTART;TZID=Europe/Amsterdam:20260330T103000
DTEND;TZID=Europe/Amsterdam:20260330T114500
LOCATION:YogaRelax Studio, Boerenverdriet
DESCRIPTION: 
STATUS:CONFIRMED
SEQUENCE:0
END:VEVENT
END:VCALENDAR