BEGIN:VCALENDAR
VERSION:2.0
CALSCALE:GREGORIAN
BEGIN:VEVENT
SUMMARY:Summer Retreat Epidaurus
DTSTART;TZID=Europe/Athens:20220610T110000
DTEND;TZID=Europe/Athens:20220610T125500
LOCATION:Επίδαυρος
DESCRIPTION: Η καλοκαιρινή μας εκδρομή!
-4 μέρες/3 νύχτες
-6 μαθήματα γιόγκα
-3 brunches+ 3 dinners
-250€
- κρατήσεις μέχρι 10/5 με προκαταβολή 100€
STATUS:CONFIRMED
SEQUENCE:0
END:VEVENT
END:VCALENDAR