BEGIN:VCALENDAR
VERSION:2.0
CALSCALE:GREGORIAN
BEGIN:VEVENT
SUMMARY:Vinyasa Yoga advanced level
DTSTART;TZID=Europe/Athens:20220930T110000
DTEND;TZID=Europe/Athens:20220930T123000
LOCATION:YOGArt
DESCRIPTION: Καθοδηγούμενο μάθημα δημιουργικής ροής. Για προχωρημένους μαθητές και δασκάλους.
STATUS:CONFIRMED
SEQUENCE:0
END:VEVENT
END:VCALENDAR