BEGIN:VCALENDAR
VERSION:2.0
CALSCALE:GREGORIAN
BEGIN:VEVENT
SUMMARY:RAAK OPLEIDING
DTSTART;TZID=Europe/Amsterdam:20240705T155500
DTEND;TZID=Europe/Amsterdam:20240705T165500
LOCATION:
DESCRIPTION: 
STATUS:CONFIRMED
SEQUENCE:0
END:VEVENT
END:VCALENDAR