BEGIN:VCALENDAR
VERSION:2.0
CALSCALE:GREGORIAN
BEGIN:VEVENT
SUMMARY:Hatha Yoga Basic
DTSTART;TZID=Europe/Berlin:20260129T180000
DTEND;TZID=Europe/Berlin:20260129T191500
LOCATION:
DESCRIPTION: Ein Kurs für alle, die Yoga von Grund auf erlernen oder ihre Basis festigen möchten.
Im ruhigen Tempo üben wir klassische Haltungen, Atemtechniken und achtsame Bewegungsabläufe.
Perfekt für jede(n), der/die sich eine ruhige, manchmal auch intensive Praxis wünscht.
STATUS:CONFIRMED
SEQUENCE:0
END:VEVENT
END:VCALENDAR