BEGIN:VCALENDAR
VERSION:2.0
CALSCALE:GREGORIAN
BEGIN:VEVENT
SUMMARY:Strong flow - Yin
DTSTART;TZID=Europe/Amsterdam:20180816T193000
DTEND;TZID=Europe/Amsterdam:20180816T204500
LOCATION:Yogaschool RoxZEN
DESCRIPTION: Best of both worlds! We starten met een medium flow, dynamisch, krachtig en opzwepend. Echt wel even knallen en net op het moment dat je denkt: ‘Nu is het wel mooi geweest’, is daar de Yin. Ontspannen, zacht en vriendelijk. Een perfecte afsluiting van je donderdag, een heerlijk begin van je weekend.
STATUS:CONFIRMED
SEQUENCE:0
END:VEVENT
END:VCALENDAR