BEGIN:VCALENDAR
VERSION:2.0
CALSCALE:GREGORIAN
BEGIN:VEVENT
SUMMARY:Yin Yang
DTSTART;TZID=Europe/Amsterdam:20180906T190000
DTEND;TZID=Europe/Amsterdam:20180906T201500
LOCATION:Yogaschool RoxZEN
DESCRIPTION: Strong Yang, relaxed Yin
STATUS:CONFIRMED
SEQUENCE:0
END:VEVENT
END:VCALENDAR