BEGIN:VCALENDAR
VERSION:2.0
CALSCALE:GREGORIAN
BEGIN:VEVENT
SUMMARY:Flow for All
DTSTART;TZID=Europe/Amsterdam:20180910T193000
DTEND;TZID=Europe/Amsterdam:20180910T204500
LOCATION:Yogaschool RoxZEN
DESCRIPTION: Vinyasa flow for all levels
STATUS:CONFIRMED
SEQUENCE:0
END:VEVENT
END:VCALENDAR