BEGIN:VCALENDAR
VERSION:2.0
CALSCALE:GREGORIAN
BEGIN:VEVENT
SUMMARY:Oefenen
DTSTART;TZID=Europe/Amsterdam:20170621T111500
DTEND;TZID=Europe/Amsterdam:20170621T130000
LOCATION:Baarsjesweg
DESCRIPTION: Dit is geen les, maar wel kun je de ruimte en de props en de rust gebruiken en als nodig de expertise van de docent aanwezig.
STATUS:CONFIRMED
SEQUENCE:0
END:VEVENT
END:VCALENDAR