BEGIN:VCALENDAR
VERSION:2.0
CALSCALE:GREGORIAN
BEGIN:VEVENT
SUMMARY:Yogatherapie
DTSTART;TZID=Europe/Amsterdam:20170622T153000
DTEND;TZID=Europe/Amsterdam:20170622T173000
LOCATION:Baarsjesweg
DESCRIPTION: Als je door blessureleed niet aan de gewone lessen mee kunt doen.
Het is een semi privé les, waar de docent rouleert tussen de verschillende deelnemers. We kijken wat mogelijk is en werken naar een persoonlijke oefen-serie toe die je overal met je mee kunt nemen.
STATUS:CONFIRMED
SEQUENCE:0
END:VEVENT
END:VCALENDAR