BEGIN:VCALENDAR
VERSION:2.0
CALSCALE:GREGORIAN
BEGIN:VEVENT
SUMMARY:Core Yoga
DTSTART;TZID=Europe/Berlin:20241117T100000
DTEND;TZID=Europe/Berlin:20241117T110000
LOCATION:Yogaraum, Oberschallemich 1, 51519 Odenthal
DESCRIPTION: workout für eine starke Mitte und Tiefenmuskulatur
STATUS:CONFIRMED
SEQUENCE:0
END:VEVENT
END:VCALENDAR