BEGIN:VCALENDAR
VERSION:2.0
CALSCALE:GREGORIAN
BEGIN:VEVENT
SUMMARY:Energising Hatha Flow
DTSTART;TZID=Europe/London:20240413T090000
DTEND;TZID=Europe/London:20240413T100000
LOCATION:Yoga Shala Canterbury
DESCRIPTION: Level 1-2 
This beginner-friendly Hatha Flow class will invite students to explore foundational shapes, bringing awareness to body and breath with a focus on alignment to ensure safety. We will move slowly through class, incorporating elements of Pranayama (breath) and Meditation.
STATUS:CONFIRMED
SEQUENCE:0
END:VEVENT
END:VCALENDAR