BEGIN:VCALENDAR
VERSION:2.0
CALSCALE:GREGORIAN
BEGIN:VEVENT
SUMMARY:Vinyasa Yoga  (All Levels)
DTSTART;TZID=Europe/London:20240711T193000
DTEND;TZID=Europe/London:20240711T203000
LOCATION:Yoga Shala Canterbury
DESCRIPTION: All levels are welcome. 
Vinyasa yoga is a style of yoga that connects one posture to the next using the breath. This class focuses on strength, flexibility, and breathing to boost physical and mental well-being.
Although it is suitable for all levels some of the transitions in this class might require previous Yoga experience. You will be fine if you are an open-minded practitioner who loves to enjoy challenging poses.
STATUS:CONFIRMED
SEQUENCE:0
END:VEVENT
END:VCALENDAR