BEGIN:VCALENDAR
VERSION:2.0
CALSCALE:GREGORIAN
BEGIN:VEVENT
SUMMARY:Meditation &amp; Pranayama (Monthly- Block of 4 wks)
DTSTART;TZID=Europe/London:20240908T103000
DTEND;TZID=Europe/London:20240908T113000
LOCATION:Yoga Shala Canterbury
DESCRIPTION: Suitable for all levels.
Are you interested in exploring more than just the physical aspects of yoga? Do you want to learn Pranayama (deep breathing techniques) and Bandha (energy locks) but find it challenging to maintain a regular practice? 
Join us on the first Sunday of every month, where we&#039;ll come together to learn and practice specific techniques. After each session, you&#039;ll continue to practice these techniques throughout the month.

We will run this class as a block of 4 weeks, the first week will be in person at the Shala and to support your journey during the next three weeks, you&#039;ll receive additional guidance—whether through email, audio, or YouTube videos—every Sunday until our next meeting. 

This course is designed to help you discover the techniques that resonate with you and build a consistent practice. While we may not introduce new content every time, we&#039;ll often revisit and refine the same practices, experimenting with different methods such as counts, ratios, and durations. The focus is on finding what works best for you and establishing a steady, enriching practice.

Free for unlimited monthly memberships!

If you are/have below condition(s), pls get in touch before booking this class;
- heart disease
- LBP/HBP
- glaucoma
- pregnant 
- neurological disorder
STATUS:CONFIRMED
SEQUENCE:0
END:VEVENT
END:VCALENDAR