BEGIN:VCALENDAR
VERSION:2.0
CALSCALE:GREGORIAN
BEGIN:VEVENT
SUMMARY:Yin Yoga
DTSTART;TZID=Europe/Berlin:20260501T173000
DTEND;TZID=Europe/Berlin:20260501T190000
LOCATION:Yoga Simha, Schützenstraße 26, 42659 Solingen
DESCRIPTION: Durch tiefe ruhige Atmung und Entspannung der Muskulatur kannst Du tiefe Schichten von verborgenem Stress loslassen, Blockaden in den Meridianlinien beseitigen und das Gleichgewicht der inneren Organe und Systeme des Körpers herstellen.
Die hingebungsvollen Positionen des Yin Yoga stimulieren durch die intensiven und sanften Dehnphasen besonders das Bindegewebe (Fasziales Gewebe), die Gelenke und Leitbahnen – unsere Lebensenergie (unser Chi bzw. Prana) kann wieder ungehindert fließen.
STATUS:CONFIRMED
SEQUENCE:0
END:VEVENT
END:VCALENDAR