BEGIN:VCALENDAR
VERSION:2.0
CALSCALE:GREGORIAN
BEGIN:VEVENT
SUMMARY:Yin Yoga am Morgen 6 Termine
DTSTART;TZID=Europe/Berlin:20260428T100000
DTEND;TZID=Europe/Berlin:20260428T113000
LOCATION:Yoga Simha, Schützenstr. 26, 42659 Solingen
DESCRIPTION: Hier geht es vor allem darum, in die Yogaübungen hinein zu entspannen und den Atem frei fließen zu lassen, um auf diese Weise zu innerer Ruhe zu kommen und unterschwellige Spannungen in den inneren Organen, Faszien und Muskelpartien loszulassen. All Levels

Yin Yoga am Morgen - fester Kurs Dienstags 10:00 – 11:30h
14.04. – 19.05.2026
6 Termine - Teilnahmegebühr 102,- Euro
STATUS:CONFIRMED
SEQUENCE:0
END:VEVENT
END:VCALENDAR