BEGIN:VCALENDAR
VERSION:2.0
CALSCALE:GREGORIAN
BEGIN:VEVENT
SUMMARY:Yoga voor rug, bekken en heupen (NL/EN)
DTSTART;TZID=Europe/Amsterdam:20250228T090000
DTEND;TZID=Europe/Amsterdam:20250228T101500
LOCATION:Parallelweg 5c, Roermond
DESCRIPTION: 
STATUS:CONFIRMED
SEQUENCE:0
END:VEVENT
END:VCALENDAR