BEGIN:VCALENDAR
VERSION:2.0
CALSCALE:GREGORIAN
BEGIN:VEVENT
SUMMARY:Ashtanga yoga Mysore style (NL/EN)
DTSTART;TZID=Europe/Amsterdam:20250509T180000
DTEND;TZID=Europe/Amsterdam:20250509T200000
LOCATION:Parallelweg 5c, Roermond
DESCRIPTION: Individuele begeleiding in een groep setting. Goed voor beginners t/m gevorderden.
STATUS:CONFIRMED
SEQUENCE:0
END:VEVENT
END:VCALENDAR