BEGIN:VCALENDAR
VERSION:2.0
CALSCALE:GREGORIAN
BEGIN:VEVENT
SUMMARY:Accessible Intermediate Series Led (NL/EN) | Docent: Nok
DTSTART;TZID=Europe/Amsterdam:20250525T093000
DTEND;TZID=Europe/Amsterdam:20250525T113000
LOCATION:Parallelweg 5c, Roermond
DESCRIPTION: Ashtanga yoga intermediate (2e) series met aanpassingen dat je de essentie van de oefening kan voelen. Je leert met diepe begrip en veiligheid.
STATUS:CONFIRMED
SEQUENCE:0
END:VEVENT
END:VCALENDAR