BEGIN:VCALENDAR
VERSION:2.0
CALSCALE:GREGORIAN
BEGIN:VEVENT
SUMMARY:Full Primary Series Ashtanga Yoga Led
DTSTART;TZID=Europe/Amsterdam:20250608T093000
DTEND;TZID=Europe/Amsterdam:20250608T113000
LOCATION:Parallelweg 5c, Roermond
DESCRIPTION: 
STATUS:CONFIRMED
SEQUENCE:0
END:VEVENT
END:VCALENDAR