BEGIN:VCALENDAR
VERSION:2.0
CALSCALE:GREGORIAN
BEGIN:VEVENT
SUMMARY:Yoga for Menopause | Practice session 1
DTSTART;TZID=Europe/Amsterdam:20251202T180000
DTEND;TZID=Europe/Amsterdam:20251202T190000
LOCATION:Parallelweg 5c, Roermond
DESCRIPTION: Onze 3 oefening sessies vinden plaats op 2, 7 en 13 december 2025. Na elke sessie mag je de reactie formulier invullen. Als jullie alle 3 sessies zallen kunnen volgen, heel graag. Hartelijk dank voor jullie deelneming aan deze leerproces. Veel liefs, 
Nok
STATUS:CONFIRMED
SEQUENCE:0
END:VEVENT
END:VCALENDAR