BEGIN:VCALENDAR
VERSION:2.0
CALSCALE:GREGORIAN
BEGIN:VEVENT
SUMMARY:Kerstyoga: Rustgevende houdingen / Ademwerk &amp; klankschalensessie
DTSTART;TZID=Europe/Brussels:20251226T193000
DTEND;TZID=Europe/Brussels:20251226T210000
LOCATION:
DESCRIPTION: 
STATUS:CONFIRMED
SEQUENCE:0
END:VEVENT
END:VCALENDAR