BEGIN:VCALENDAR
VERSION:2.0
CALSCALE:GREGORIAN
BEGIN:VEVENT
SUMMARY:Ouder-Kind yoga (6 tot 12 jaar)
DTSTART;TZID=Europe/Brussels:20260201T100000
DTEND;TZID=Europe/Brussels:20260201T111500
LOCATION:
DESCRIPTION: 
STATUS:CONFIRMED
SEQUENCE:0
END:VEVENT
END:VCALENDAR