BEGIN:VCALENDAR
VERSION:2.0
CALSCALE:GREGORIAN
BEGIN:VEVENT
SUMMARY:Yoga en Pilates Fusion  (les start eenmalig om 8.45u)
DTSTART;TZID=Europe/Amsterdam:20220716T084500
DTEND;TZID=Europe/Amsterdam:20220716T094500
LOCATION:Herenstraat
DESCRIPTION: Yoga &amp;amp; Pila Fusion is een unieke bewegingsleer; je levert een lichte fysieke inspanning en houdt zo jezelf in balans. Je werkt aan je geestelijke en lichamelijke gezondheid waardoor je fit, soepel en ontspannen blijft.
STATUS:CONFIRMED
SEQUENCE:0
END:VEVENT
END:VCALENDAR