BEGIN:VCALENDAR
VERSION:2.0
CALSCALE:GREGORIAN
BEGIN:VEVENT
SUMMARY:Let op: aanvang 19:30!: Hatha yoga
DTSTART;TZID=Europe/Amsterdam:20251208T193000
DTEND;TZID=Europe/Amsterdam:20251208T204500
LOCATION:Yogastudio Kamala
DESCRIPTION: 
STATUS:CONFIRMED
SEQUENCE:0
END:VEVENT
END:VCALENDAR