BEGIN:VCALENDAR
VERSION:2.0
CALSCALE:GREGORIAN
BEGIN:VEVENT
SUMMARY:LET OP! aanvang 13:15: Meridian Nidra
DTSTART;TZID=Europe/Amsterdam:20251229T131500
DTEND;TZID=Europe/Amsterdam:20251229T143000
LOCATION:Yogastudio Kamala
DESCRIPTION: Traditioneel lassen we 1 lesdag in de kerstvakantie in om uit te blazen na de kerstdagen en energie te verzamelen voor de jaarwisseling. Meridian Nidra is een variant op Yoga Nidra: een XXL-ontspanning, waarbij we de weg van de hoofdmeridianen visualeren. Trek extra warme kleren aan.
STATUS:CONFIRMED
SEQUENCE:0
END:VEVENT
END:VCALENDAR