BEGIN:VCALENDAR
VERSION:2.0
CALSCALE:GREGORIAN
BEGIN:VEVENT
SUMMARY:Zen &amp; Zoet Christmas
DTSTART;TZID=Europe/Amsterdam:20251213T100000
DTEND;TZID=Europe/Amsterdam:20251213T143000
LOCATION:Rijksweg Zuid 164a
DESCRIPTION: 
STATUS:CONFIRMED
SEQUENCE:0
END:VEVENT
END:VCALENDAR