BEGIN:VCALENDAR
VERSION:2.0
CALSCALE:GREGORIAN
BEGIN:VEVENT
SUMMARY:Yin Yoga
DTSTART;TZID=Europe/Amsterdam:20260726T101500
DTEND;TZID=Europe/Amsterdam:20260726T111500
LOCATION:Rijksweg Zuid 164a
DESCRIPTION: 
STATUS:CONFIRMED
SEQUENCE:0
END:VEVENT
END:VCALENDAR