BEGIN:VCALENDAR
VERSION:2.0
CALSCALE:GREGORIAN
BEGIN:VEVENT
SUMMARY:Vinyasa Yoga
DTSTART;TZID=Europe/Amsterdam:20250225T190000
DTEND;TZID=Europe/Amsterdam:20250225T200000
LOCATION:Yogastudio Ouddorp
DESCRIPTION: Een lekkere stevige les met een mooie flow van intense houdingen voor yogi&#039;s die iets meer uitdaging willen. Vanuit de zonnegroet is er variëteit in de verschillende yogahoudingen. De lessen worden gegeven door Angelique van den Berg.
STATUS:CONFIRMED
SEQUENCE:0
END:VEVENT
END:VCALENDAR