BEGIN:VCALENDAR
VERSION:2.0
CALSCALE:GREGORIAN
BEGIN:VEVENT
SUMMARY:Hatha yoga (op de buitenlocatie 3aug)
DTSTART;TZID=Europe/Amsterdam:20220803T193000
DTEND;TZID=Europe/Amsterdam:20220803T203000
LOCATION:Geerweg 6
DESCRIPTION: 
STATUS:CONFIRMED
SEQUENCE:0
END:VEVENT
END:VCALENDAR