BEGIN:VCALENDAR
VERSION:2.0
CALSCALE:GREGORIAN
BEGIN:VEVENT
SUMMARY:hot yin yoga
DTSTART;TZID=Europe/Amsterdam:20220805T200000
DTEND;TZID=Europe/Amsterdam:20220805T210000
LOCATION:Zernikeweg 1
DESCRIPTION: 
STATUS:CONFIRMED
SEQUENCE:0
END:VEVENT
END:VCALENDAR