BEGIN:VCALENDAR
VERSION:2.0
CALSCALE:GREGORIAN
BEGIN:VEVENT
SUMMARY:Hatha yoga(studio wordt geschilderd zie mail 10-6)
DTSTART;TZID=Europe/Amsterdam:20240617T193000
DTEND;TZID=Europe/Amsterdam:20240617T203000
LOCATION:Zernikeweg 1
DESCRIPTION: 
STATUS:CONFIRMED
SEQUENCE:0
END:VEVENT
END:VCALENDAR