BEGIN:VCALENDAR
VERSION:2.0
CALSCALE:GREGORIAN
BEGIN:VEVENT
SUMMARY:Hatha yoga
DTSTART;TZID=Europe/Amsterdam:20220620T193000
DTEND;TZID=Europe/Amsterdam:20220620T203000
LOCATION:Zernikeweg 1
DESCRIPTION: aansluitend afscheid Michaela met een drankje en een  gezamelijke :
Sat Nam mantra uit de Kundalini.
STATUS:CONFIRMED
SEQUENCE:0
END:VEVENT
END:VCALENDAR