BEGIN:VCALENDAR
VERSION:2.0
CALSCALE:GREGORIAN
BEGIN:VEVENT
SUMMARY:Hatha yoga
DTSTART;TZID=Europe/Amsterdam:20220718T193000
DTEND;TZID=Europe/Amsterdam:20220718T203000
LOCATION:Geerweg 6
DESCRIPTION: let op:
18-7 is de les op de Geerweg 6
parkeren in de berm
Wanneer je een matje hebt, graag zelf meenemen.
Ik heb matjes ook wel bij me.
STATUS:CONFIRMED
SEQUENCE:0
END:VEVENT
END:VCALENDAR