BEGIN:VCALENDAR
VERSION:2.0
CALSCALE:GREGORIAN
BEGIN:VEVENT
SUMMARY:Ademmeditatie
DTSTART;TZID=Europe/Amsterdam:20250614T100000
DTEND;TZID=Europe/Amsterdam:20250614T110000
LOCATION:Yoga Studio Citta
DESCRIPTION: Een speciale ademmeditatie voor mensen die voor het eerst met ademoefeningen beginnen en gevorderden.
STATUS:CONFIRMED
SEQUENCE:0
END:VEVENT
END:VCALENDAR