BEGIN:VCALENDAR
VERSION:2.0
CALSCALE:GREGORIAN
BEGIN:VEVENT
SUMMARY:TRE en Safe Sound Healing
DTSTART;TZID=Europe/Amsterdam:20250413T134500
DTEND;TZID=Europe/Amsterdam:20250413T150000
LOCATION:Studio Citta
DESCRIPTION: Deze les is niet inbegrepen in het abonnement.
De kosten bedragen € 15,-
STATUS:CONFIRMED
SEQUENCE:0
END:VEVENT
END:VCALENDAR